BEGIN:VCALENDAR
VERSION:2.0
PRODID:-// - ECPv6.15.20//NONSGML v1.0//EN
CALSCALE:GREGORIAN
METHOD:PUBLISH
X-ORIGINAL-URL:https://beerandmagic.net
X-WR-CALDESC:Events for 
REFRESH-INTERVAL;VALUE=DURATION:PT1H
X-Robots-Tag:noindex
X-PUBLISHED-TTL:PT1H
BEGIN:VTIMEZONE
TZID:America/Los_Angeles
BEGIN:DAYLIGHT
TZOFFSETFROM:-0800
TZOFFSETTO:-0700
TZNAME:PDT
DTSTART:20240310T100000
END:DAYLIGHT
BEGIN:STANDARD
TZOFFSETFROM:-0700
TZOFFSETTO:-0800
TZNAME:PST
DTSTART:20241103T090000
END:STANDARD
BEGIN:DAYLIGHT
TZOFFSETFROM:-0800
TZOFFSETTO:-0700
TZNAME:PDT
DTSTART:20250309T100000
END:DAYLIGHT
BEGIN:STANDARD
TZOFFSETFROM:-0700
TZOFFSETTO:-0800
TZNAME:PST
DTSTART:20251102T090000
END:STANDARD
BEGIN:DAYLIGHT
TZOFFSETFROM:-0800
TZOFFSETTO:-0700
TZNAME:PDT
DTSTART:20260308T100000
END:DAYLIGHT
BEGIN:STANDARD
TZOFFSETFROM:-0700
TZOFFSETTO:-0800
TZNAME:PST
DTSTART:20261101T090000
END:STANDARD
END:VTIMEZONE
BEGIN:VEVENT
DTSTART;TZID=America/Los_Angeles:20250803T170000
DTEND;TZID=America/Los_Angeles:20250803T190000
DTSTAMP:20260419T154317
CREATED:20250704T180950Z
LAST-MODIFIED:20250803T190939Z
UID:10000154-1754240400-1754247600@beerandmagic.net
SUMMARY:Magic @ The Library Bar | Hollywood Roosevelt Hotel
DESCRIPTION:Step into The Library Bar for an evening of close-up magic with the renowned HUBB. With a reputation honed at legendary venues like The Magic Castle and The Chicago Magic Lounge\, HUBB will captivate you with his sophisticated illusions in our elegant\, cozy space. \nThis exclusive event is designed for a select audience\, creating a refined atmosphere where you can dress to impress\, sip a crafted cocktail\, and connect with fellow enthusiasts. With HUBB’s exceptional talent for transforming ordinary moments into unforgettable memories\, you’re in for an evening of understated yet mesmerizing magic. \n\nSeatings: 5:00 – 7:00 PM | 7:30 – 9:30 PM\nTicket Price: $50 (Includes one complimentary drink)
URL:https://beerandmagic.net/event/magic-the-library-bar-hollywood-roosevelt-hotel-76/
LOCATION:Hollywood Roosevelt Hotel\, 7000 Hollywood Blvd\, Los Angeles\, CA\, 90028\, United States
CATEGORIES:HUBB,PUBLIC EVENTS
ATTACH;FMTTYPE=image/jpeg:https://beerandmagic.net/wp-content/uploads/2024/12/https___cdn.evbuc_.com_images_847760529_248515732505_1_original-qskt1w.tmp_.jpg
END:VEVENT
BEGIN:VEVENT
DTSTART;TZID=America/Los_Angeles:20250803T193000
DTEND;TZID=America/Los_Angeles:20250803T213000
DTSTAMP:20260419T154317
CREATED:20250704T180952Z
LAST-MODIFIED:20250803T190940Z
UID:10000156-1754249400-1754256600@beerandmagic.net
SUMMARY:Magic @ The Library Bar | Hollywood Roosevelt Hotel
DESCRIPTION:Step into The Library Bar for an evening of close-up magic with the renowned HUBB. With a reputation honed at legendary venues like The Magic Castle and The Chicago Magic Lounge\, HUBB will captivate you with his sophisticated illusions in our elegant\, cozy space. \nThis exclusive event is designed for a select audience\, creating a refined atmosphere where you can dress to impress\, sip a crafted cocktail\, and connect with fellow enthusiasts. With HUBB’s exceptional talent for transforming ordinary moments into unforgettable memories\, you’re in for an evening of understated yet mesmerizing magic. \n\nSeatings: 5:00 – 7:00 PM | 7:30 – 9:30 PM\nTicket Price: $50 (Includes one complimentary drink)
URL:https://beerandmagic.net/event/magic-the-library-bar-hollywood-roosevelt-hotel-77/
LOCATION:Hollywood Roosevelt Hotel\, 7000 Hollywood Blvd\, Los Angeles\, CA\, 90028\, United States
CATEGORIES:HUBB,PUBLIC EVENTS
ATTACH;FMTTYPE=image/jpeg:https://beerandmagic.net/wp-content/uploads/2024/12/https___cdn.evbuc_.com_images_847760529_248515732505_1_original-qskt1w.tmp_.jpg
END:VEVENT
BEGIN:VEVENT
DTSTART;TZID=America/Los_Angeles:20250810T170000
DTEND;TZID=America/Los_Angeles:20250810T190000
DTSTAMP:20260419T154317
CREATED:20250711T184004Z
LAST-MODIFIED:20250810T190943Z
UID:10000159-1754845200-1754852400@beerandmagic.net
SUMMARY:Magic @ The Library Bar | Hollywood Roosevelt Hotel
DESCRIPTION:Step into The Library Bar for an evening of close-up magic with the renowned HUBB. With a reputation honed at legendary venues like The Magic Castle and The Chicago Magic Lounge\, HUBB will captivate you with his sophisticated illusions in our elegant\, cozy space. \nThis exclusive event is designed for a select audience\, creating a refined atmosphere where you can dress to impress\, sip a crafted cocktail\, and connect with fellow enthusiasts. With HUBB’s exceptional talent for transforming ordinary moments into unforgettable memories\, you’re in for an evening of understated yet mesmerizing magic. \n\nSeatings: 5:00 – 7:00 PM | 7:30 – 9:30 PM\nTicket Price: $50 (Includes one complimentary drink)
URL:https://beerandmagic.net/event/magic-the-library-bar-hollywood-roosevelt-hotel-78/
LOCATION:Hollywood Roosevelt Hotel\, 7000 Hollywood Blvd\, Los Angeles\, CA\, 90028\, United States
CATEGORIES:HUBB,PUBLIC EVENTS
ATTACH;FMTTYPE=image/jpeg:https://beerandmagic.net/wp-content/uploads/2024/12/https___cdn.evbuc_.com_images_847760529_248515732505_1_original-qskt1w.tmp_.jpg
END:VEVENT
BEGIN:VEVENT
DTSTART;TZID=America/Los_Angeles:20250810T193000
DTEND;TZID=America/Los_Angeles:20250810T213000
DTSTAMP:20260419T154317
CREATED:20250711T184006Z
LAST-MODIFIED:20250810T190943Z
UID:10000160-1754854200-1754861400@beerandmagic.net
SUMMARY:Magic @ The Library Bar | Hollywood Roosevelt Hotel
DESCRIPTION:Step into The Library Bar for an evening of close-up magic with the renowned HUBB. With a reputation honed at legendary venues like The Magic Castle and The Chicago Magic Lounge\, HUBB will captivate you with his sophisticated illusions in our elegant\, cozy space. \nThis exclusive event is designed for a select audience\, creating a refined atmosphere where you can dress to impress\, sip a crafted cocktail\, and connect with fellow enthusiasts. With HUBB’s exceptional talent for transforming ordinary moments into unforgettable memories\, you’re in for an evening of understated yet mesmerizing magic. \n\nSeatings: 5:00 – 7:00 PM | 7:30 – 9:30 PM\nTicket Price: $50 (Includes one complimentary drink)
URL:https://beerandmagic.net/event/magic-the-library-bar-hollywood-roosevelt-hotel-79/
LOCATION:Hollywood Roosevelt Hotel\, 7000 Hollywood Blvd\, Los Angeles\, CA\, 90028\, United States
CATEGORIES:HUBB,PUBLIC EVENTS
ATTACH;FMTTYPE=image/jpeg:https://beerandmagic.net/wp-content/uploads/2024/12/https___cdn.evbuc_.com_images_847760529_248515732505_1_original-qskt1w.tmp_.jpg
END:VEVENT
BEGIN:VEVENT
DTSTART;TZID=America/Los_Angeles:20250817T170000
DTEND;TZID=America/Los_Angeles:20250817T190000
DTSTAMP:20260419T154317
CREATED:20250718T184146Z
LAST-MODIFIED:20250817T192443Z
UID:10000162-1755450000-1755457200@beerandmagic.net
SUMMARY:Magic @ The Library Bar | Hollywood Roosevelt Hotel
DESCRIPTION:Step into The Library Bar for an evening of close-up magic with the renowned HUBB. With a reputation honed at legendary venues like The Magic Castle and The Chicago Magic Lounge\, HUBB will captivate you with his sophisticated illusions in our elegant\, cozy space. \nThis exclusive event is designed for a select audience\, creating a refined atmosphere where you can dress to impress\, sip a crafted cocktail\, and connect with fellow enthusiasts. With HUBB’s exceptional talent for transforming ordinary moments into unforgettable memories\, you’re in for an evening of understated yet mesmerizing magic. \n\nSeatings: 5:00 – 7:00 PM | 7:30 – 9:30 PM\nTicket Price: $50 (Includes one complimentary drink)
URL:https://beerandmagic.net/event/magic-the-library-bar-hollywood-roosevelt-hotel-80/
LOCATION:Hollywood Roosevelt Hotel\, 7000 Hollywood Blvd\, Los Angeles\, CA\, 90028\, United States
CATEGORIES:HUBB,PUBLIC EVENTS
ATTACH;FMTTYPE=image/jpeg:https://beerandmagic.net/wp-content/uploads/2024/12/https___cdn.evbuc_.com_images_847760529_248515732505_1_original-qskt1w.tmp_.jpg
END:VEVENT
BEGIN:VEVENT
DTSTART;TZID=America/Los_Angeles:20250817T193000
DTEND;TZID=America/Los_Angeles:20250817T213000
DTSTAMP:20260419T154317
CREATED:20250718T184146Z
LAST-MODIFIED:20250817T192443Z
UID:10000163-1755459000-1755466200@beerandmagic.net
SUMMARY:Magic @ The Library Bar | Hollywood Roosevelt Hotel
DESCRIPTION:Step into The Library Bar for an evening of close-up magic with the renowned HUBB. With a reputation honed at legendary venues like The Magic Castle and The Chicago Magic Lounge\, HUBB will captivate you with his sophisticated illusions in our elegant\, cozy space. \nThis exclusive event is designed for a select audience\, creating a refined atmosphere where you can dress to impress\, sip a crafted cocktail\, and connect with fellow enthusiasts. With HUBB’s exceptional talent for transforming ordinary moments into unforgettable memories\, you’re in for an evening of understated yet mesmerizing magic. \n\nSeatings: 5:00 – 7:00 PM | 7:30 – 9:30 PM\nTicket Price: $50 (Includes one complimentary drink)
URL:https://beerandmagic.net/event/magic-the-library-bar-hollywood-roosevelt-hotel-81/
LOCATION:Hollywood Roosevelt Hotel\, 7000 Hollywood Blvd\, Los Angeles\, CA\, 90028\, United States
CATEGORIES:HUBB,PUBLIC EVENTS
ATTACH;FMTTYPE=image/jpeg:https://beerandmagic.net/wp-content/uploads/2024/12/https___cdn.evbuc_.com_images_847760529_248515732505_1_original-qskt1w.tmp_.jpg
END:VEVENT
BEGIN:VEVENT
DTSTART;TZID=America/Los_Angeles:20250824T170000
DTEND;TZID=America/Los_Angeles:20250824T190000
DTSTAMP:20260419T154317
CREATED:20250725T183956Z
LAST-MODIFIED:20250824T192438Z
UID:10000165-1756054800-1756062000@beerandmagic.net
SUMMARY:Magic @ The Library Bar | Hollywood Roosevelt Hotel
DESCRIPTION:Step into The Library Bar for an evening of close-up magic with the renowned HUBB. With a reputation honed at legendary venues like The Magic Castle and The Chicago Magic Lounge\, HUBB will captivate you with his sophisticated illusions in our elegant\, cozy space. \nThis exclusive event is designed for a select audience\, creating a refined atmosphere where you can dress to impress\, sip a crafted cocktail\, and connect with fellow enthusiasts. With HUBB’s exceptional talent for transforming ordinary moments into unforgettable memories\, you’re in for an evening of understated yet mesmerizing magic. \n\nSeatings: 5:00 – 7:00 PM | 7:30 – 9:30 PM\nTicket Price: $50 (Includes one complimentary drink)
URL:https://beerandmagic.net/event/magic-the-library-bar-hollywood-roosevelt-hotel-82/
LOCATION:Hollywood Roosevelt Hotel\, 7000 Hollywood Blvd\, Los Angeles\, CA\, 90028\, United States
CATEGORIES:HUBB,PUBLIC EVENTS
ATTACH;FMTTYPE=image/jpeg:https://beerandmagic.net/wp-content/uploads/2024/12/https___cdn.evbuc_.com_images_847760529_248515732505_1_original-qskt1w.tmp_.jpg
END:VEVENT
BEGIN:VEVENT
DTSTART;TZID=America/Los_Angeles:20250824T193000
DTEND;TZID=America/Los_Angeles:20250824T213000
DTSTAMP:20260419T154317
CREATED:20250725T183956Z
LAST-MODIFIED:20250824T192438Z
UID:10000166-1756063800-1756071000@beerandmagic.net
SUMMARY:Magic @ The Library Bar | Hollywood Roosevelt Hotel
DESCRIPTION:Step into The Library Bar for an evening of close-up magic with the renowned HUBB. With a reputation honed at legendary venues like The Magic Castle and The Chicago Magic Lounge\, HUBB will captivate you with his sophisticated illusions in our elegant\, cozy space. \nThis exclusive event is designed for a select audience\, creating a refined atmosphere where you can dress to impress\, sip a crafted cocktail\, and connect with fellow enthusiasts. With HUBB’s exceptional talent for transforming ordinary moments into unforgettable memories\, you’re in for an evening of understated yet mesmerizing magic. \n\nSeatings: 5:00 – 7:00 PM | 7:30 – 9:30 PM\nTicket Price: $50 (Includes one complimentary drink)
URL:https://beerandmagic.net/event/magic-the-library-bar-hollywood-roosevelt-hotel-83/
LOCATION:Hollywood Roosevelt Hotel\, 7000 Hollywood Blvd\, Los Angeles\, CA\, 90028\, United States
CATEGORIES:HUBB,PUBLIC EVENTS
ATTACH;FMTTYPE=image/jpeg:https://beerandmagic.net/wp-content/uploads/2024/12/https___cdn.evbuc_.com_images_847760529_248515732505_1_original-qskt1w.tmp_.jpg
END:VEVENT
BEGIN:VEVENT
DTSTART;TZID=America/Los_Angeles:20250831T170000
DTEND;TZID=America/Los_Angeles:20250831T190000
DTSTAMP:20260419T154317
CREATED:20250801T190950Z
LAST-MODIFIED:20250831T170941Z
UID:10000168-1756659600-1756666800@beerandmagic.net
SUMMARY:Magic @ The Library Bar | Hollywood Roosevelt Hotel
DESCRIPTION:Step into The Library Bar for an evening of close-up magic with the renowned HUBB. With a reputation honed at legendary venues like The Magic Castle and The Chicago Magic Lounge\, HUBB will captivate you with his sophisticated illusions in our elegant\, cozy space. \nThis exclusive event is designed for a select audience\, creating a refined atmosphere where you can dress to impress\, sip a crafted cocktail\, and connect with fellow enthusiasts. With HUBB’s exceptional talent for transforming ordinary moments into unforgettable memories\, you’re in for an evening of understated yet mesmerizing magic. \n\nSeatings: 5:00 – 7:00 PM | 7:30 – 9:30 PM\nTicket Price: $50 (Includes one complimentary drink)
URL:https://beerandmagic.net/event/magic-the-library-bar-hollywood-roosevelt-hotel-84/
LOCATION:Hollywood Roosevelt Hotel\, 7000 Hollywood Blvd\, Los Angeles\, CA\, 90028\, United States
CATEGORIES:HUBB,PUBLIC EVENTS
ATTACH;FMTTYPE=image/jpeg:https://beerandmagic.net/wp-content/uploads/2024/12/https___cdn.evbuc_.com_images_847760529_248515732505_1_original-qskt1w.tmp_.jpg
END:VEVENT
BEGIN:VEVENT
DTSTART;TZID=America/Los_Angeles:20250831T193000
DTEND;TZID=America/Los_Angeles:20250831T213000
DTSTAMP:20260419T154317
CREATED:20250801T190951Z
LAST-MODIFIED:20250831T170942Z
UID:10000169-1756668600-1756675800@beerandmagic.net
SUMMARY:Magic @ The Library Bar | Hollywood Roosevelt Hotel
DESCRIPTION:Step into The Library Bar for an evening of close-up magic with the renowned HUBB. With a reputation honed at legendary venues like The Magic Castle and The Chicago Magic Lounge\, HUBB will captivate you with his sophisticated illusions in our elegant\, cozy space. \nThis exclusive event is designed for a select audience\, creating a refined atmosphere where you can dress to impress\, sip a crafted cocktail\, and connect with fellow enthusiasts. With HUBB’s exceptional talent for transforming ordinary moments into unforgettable memories\, you’re in for an evening of understated yet mesmerizing magic. \n\nSeatings: 5:00 – 7:00 PM | 7:30 – 9:30 PM\nTicket Price: $50 (Includes one complimentary drink)
URL:https://beerandmagic.net/event/magic-the-library-bar-hollywood-roosevelt-hotel-85/
LOCATION:Hollywood Roosevelt Hotel\, 7000 Hollywood Blvd\, Los Angeles\, CA\, 90028\, United States
CATEGORIES:HUBB,PUBLIC EVENTS
ATTACH;FMTTYPE=image/jpeg:https://beerandmagic.net/wp-content/uploads/2024/12/https___cdn.evbuc_.com_images_847760529_248515732505_1_original-qskt1w.tmp_.jpg
END:VEVENT
END:VCALENDAR