BEGIN:VCALENDAR
VERSION:2.0
PRODID:-// - ECPv6.15.20//NONSGML v1.0//EN
CALSCALE:GREGORIAN
METHOD:PUBLISH
X-ORIGINAL-URL:https://beerandmagic.net
X-WR-CALDESC:Events for 
REFRESH-INTERVAL;VALUE=DURATION:PT1H
X-Robots-Tag:noindex
X-PUBLISHED-TTL:PT1H
BEGIN:VTIMEZONE
TZID:America/Los_Angeles
BEGIN:DAYLIGHT
TZOFFSETFROM:-0800
TZOFFSETTO:-0700
TZNAME:PDT
DTSTART:20240310T100000
END:DAYLIGHT
BEGIN:STANDARD
TZOFFSETFROM:-0700
TZOFFSETTO:-0800
TZNAME:PST
DTSTART:20241103T090000
END:STANDARD
BEGIN:DAYLIGHT
TZOFFSETFROM:-0800
TZOFFSETTO:-0700
TZNAME:PDT
DTSTART:20250309T100000
END:DAYLIGHT
BEGIN:STANDARD
TZOFFSETFROM:-0700
TZOFFSETTO:-0800
TZNAME:PST
DTSTART:20251102T090000
END:STANDARD
BEGIN:DAYLIGHT
TZOFFSETFROM:-0800
TZOFFSETTO:-0700
TZNAME:PDT
DTSTART:20260308T100000
END:DAYLIGHT
BEGIN:STANDARD
TZOFFSETFROM:-0700
TZOFFSETTO:-0800
TZNAME:PST
DTSTART:20261101T090000
END:STANDARD
END:VTIMEZONE
BEGIN:VEVENT
DTSTART;TZID=America/Los_Angeles:20250907T170000
DTEND;TZID=America/Los_Angeles:20250907T190000
DTSTAMP:20260419T141514
CREATED:20250808T190942Z
LAST-MODIFIED:20250907T171228Z
UID:10000172-1757264400-1757271600@beerandmagic.net
SUMMARY:Magic @ The Library Bar | Hollywood Roosevelt Hotel
DESCRIPTION:Step into The Library Bar for an evening of close-up magic with the renowned HUBB. With a reputation honed at legendary venues like The Magic Castle and The Chicago Magic Lounge\, HUBB will captivate you with his sophisticated illusions in our elegant\, cozy space. \nThis exclusive event is designed for a select audience\, creating a refined atmosphere where you can dress to impress\, sip a crafted cocktail\, and connect with fellow enthusiasts. With HUBB’s exceptional talent for transforming ordinary moments into unforgettable memories\, you’re in for an evening of understated yet mesmerizing magic. \n\nSeatings: 5:00 – 7:00 PM | 7:30 – 9:30 PM\nTicket Price: $50 (Includes one complimentary drink)
URL:https://beerandmagic.net/event/magic-the-library-bar-hollywood-roosevelt-hotel-86/
LOCATION:Hollywood Roosevelt Hotel\, 7000 Hollywood Blvd\, Los Angeles\, CA\, 90028\, United States
CATEGORIES:HUBB,PUBLIC EVENTS
ATTACH;FMTTYPE=image/jpeg:https://beerandmagic.net/wp-content/uploads/2024/12/https___cdn.evbuc_.com_images_847760529_248515732505_1_original-qskt1w.tmp_.jpg
END:VEVENT
BEGIN:VEVENT
DTSTART;TZID=America/Los_Angeles:20250907T193000
DTEND;TZID=America/Los_Angeles:20250907T213000
DTSTAMP:20260419T141514
CREATED:20250808T190942Z
LAST-MODIFIED:20250907T171229Z
UID:10000174-1757273400-1757280600@beerandmagic.net
SUMMARY:Magic @ The Library Bar | Hollywood Roosevelt Hotel
DESCRIPTION:Step into The Library Bar for an evening of close-up magic with the renowned HUBB. With a reputation honed at legendary venues like The Magic Castle and The Chicago Magic Lounge\, HUBB will captivate you with his sophisticated illusions in our elegant\, cozy space. \nThis exclusive event is designed for a select audience\, creating a refined atmosphere where you can dress to impress\, sip a crafted cocktail\, and connect with fellow enthusiasts. With HUBB’s exceptional talent for transforming ordinary moments into unforgettable memories\, you’re in for an evening of understated yet mesmerizing magic. \n\nSeatings: 5:00 – 7:00 PM | 7:30 – 9:30 PM\nTicket Price: $50 (Includes one complimentary drink)
URL:https://beerandmagic.net/event/magic-the-library-bar-hollywood-roosevelt-hotel-87/
LOCATION:Hollywood Roosevelt Hotel\, 7000 Hollywood Blvd\, Los Angeles\, CA\, 90028\, United States
CATEGORIES:HUBB,PUBLIC EVENTS
ATTACH;FMTTYPE=image/jpeg:https://beerandmagic.net/wp-content/uploads/2024/12/https___cdn.evbuc_.com_images_847760529_248515732505_1_original-qskt1w.tmp_.jpg
END:VEVENT
BEGIN:VEVENT
DTSTART;TZID=America/Los_Angeles:20250914T170000
DTEND;TZID=America/Los_Angeles:20250914T190000
DTSTAMP:20260419T141514
CREATED:20250815T192441Z
LAST-MODIFIED:20250914T182442Z
UID:10000177-1757869200-1757876400@beerandmagic.net
SUMMARY:Magic @ The Library Bar | Hollywood Roosevelt Hotel
DESCRIPTION:Step into The Library Bar for an evening of close-up magic with the renowned HUBB. With a reputation honed at legendary venues like The Magic Castle and The Chicago Magic Lounge\, HUBB will captivate you with his sophisticated illusions in our elegant\, cozy space. \nThis exclusive event is designed for a select audience\, creating a refined atmosphere where you can dress to impress\, sip a crafted cocktail\, and connect with fellow enthusiasts. With HUBB’s exceptional talent for transforming ordinary moments into unforgettable memories\, you’re in for an evening of understated yet mesmerizing magic. \n\nSeatings: 5:00 – 7:00 PM | 7:30 – 9:30 PM\nTicket Price: $50 (Includes one complimentary drink)
URL:https://beerandmagic.net/event/magic-the-library-bar-hollywood-roosevelt-hotel-88/
LOCATION:Hollywood Roosevelt Hotel\, 7000 Hollywood Blvd\, Los Angeles\, CA\, 90028\, United States
CATEGORIES:HUBB,PUBLIC EVENTS
ATTACH;FMTTYPE=image/jpeg:https://beerandmagic.net/wp-content/uploads/2024/12/https___cdn.evbuc_.com_images_847760529_248515732505_1_original-qskt1w.tmp_.jpg
END:VEVENT
BEGIN:VEVENT
DTSTART;TZID=America/Los_Angeles:20250914T193000
DTEND;TZID=America/Los_Angeles:20250914T213000
DTSTAMP:20260419T141514
CREATED:20250815T192441Z
LAST-MODIFIED:20250914T182442Z
UID:10000178-1757878200-1757885400@beerandmagic.net
SUMMARY:Magic @ The Library Bar | Hollywood Roosevelt Hotel
DESCRIPTION:Step into The Library Bar for an evening of close-up magic with the renowned HUBB. With a reputation honed at legendary venues like The Magic Castle and The Chicago Magic Lounge\, HUBB will captivate you with his sophisticated illusions in our elegant\, cozy space. \nThis exclusive event is designed for a select audience\, creating a refined atmosphere where you can dress to impress\, sip a crafted cocktail\, and connect with fellow enthusiasts. With HUBB’s exceptional talent for transforming ordinary moments into unforgettable memories\, you’re in for an evening of understated yet mesmerizing magic. \n\nSeatings: 5:00 – 7:00 PM | 7:30 – 9:30 PM\nTicket Price: $50 (Includes one complimentary drink)
URL:https://beerandmagic.net/event/magic-the-library-bar-hollywood-roosevelt-hotel-89/
LOCATION:Hollywood Roosevelt Hotel\, 7000 Hollywood Blvd\, Los Angeles\, CA\, 90028\, United States
CATEGORIES:HUBB,PUBLIC EVENTS
ATTACH;FMTTYPE=image/jpeg:https://beerandmagic.net/wp-content/uploads/2024/12/https___cdn.evbuc_.com_images_847760529_248515732505_1_original-qskt1w.tmp_.jpg
END:VEVENT
BEGIN:VEVENT
DTSTART;TZID=America/Los_Angeles:20250921T170000
DTEND;TZID=America/Los_Angeles:20250921T190000
DTSTAMP:20260419T141514
CREATED:20250822T192442Z
LAST-MODIFIED:20250921T190003Z
UID:10000181-1758474000-1758481200@beerandmagic.net
SUMMARY:Magic @ The Library Bar | Hollywood Roosevelt Hotel
DESCRIPTION:Step into The Library Bar for an evening of close-up magic with the renowned HUBB. With a reputation honed at legendary venues like The Magic Castle and The Chicago Magic Lounge\, HUBB will captivate you with his sophisticated illusions in our elegant\, cozy space. \nThis exclusive event is designed for a select audience\, creating a refined atmosphere where you can dress to impress\, sip a crafted cocktail\, and connect with fellow enthusiasts. With HUBB’s exceptional talent for transforming ordinary moments into unforgettable memories\, you’re in for an evening of understated yet mesmerizing magic. \n\nSeatings: 5:00 – 7:00 PM | 7:30 – 9:30 PM\nTicket Price: $50 (Includes one complimentary drink)
URL:https://beerandmagic.net/event/magic-the-library-bar-hollywood-roosevelt-hotel-90/
LOCATION:Hollywood Roosevelt Hotel\, 7000 Hollywood Blvd\, Los Angeles\, CA\, 90028\, United States
CATEGORIES:HUBB,PUBLIC EVENTS
ATTACH;FMTTYPE=image/jpeg:https://beerandmagic.net/wp-content/uploads/2024/12/https___cdn.evbuc_.com_images_847760529_248515732505_1_original-qskt1w.tmp_.jpg
END:VEVENT
BEGIN:VEVENT
DTSTART;TZID=America/Los_Angeles:20250921T193000
DTEND;TZID=America/Los_Angeles:20250921T213000
DTSTAMP:20260419T141514
CREATED:20250822T192442Z
LAST-MODIFIED:20250921T190004Z
UID:10000182-1758483000-1758490200@beerandmagic.net
SUMMARY:Magic @ The Library Bar | Hollywood Roosevelt Hotel
DESCRIPTION:Step into The Library Bar for an evening of close-up magic with the renowned HUBB. With a reputation honed at legendary venues like The Magic Castle and The Chicago Magic Lounge\, HUBB will captivate you with his sophisticated illusions in our elegant\, cozy space. \nThis exclusive event is designed for a select audience\, creating a refined atmosphere where you can dress to impress\, sip a crafted cocktail\, and connect with fellow enthusiasts. With HUBB’s exceptional talent for transforming ordinary moments into unforgettable memories\, you’re in for an evening of understated yet mesmerizing magic. \n\nSeatings: 5:00 – 7:00 PM | 7:30 – 9:30 PM\nTicket Price: $50 (Includes one complimentary drink)
URL:https://beerandmagic.net/event/magic-the-library-bar-hollywood-roosevelt-hotel-91/
LOCATION:Hollywood Roosevelt Hotel\, 7000 Hollywood Blvd\, Los Angeles\, CA\, 90028\, United States
CATEGORIES:HUBB,PUBLIC EVENTS
ATTACH;FMTTYPE=image/jpeg:https://beerandmagic.net/wp-content/uploads/2024/12/https___cdn.evbuc_.com_images_847760529_248515732505_1_original-qskt1w.tmp_.jpg
END:VEVENT
BEGIN:VEVENT
DTSTART;TZID=America/Los_Angeles:20250928T170000
DTEND;TZID=America/Los_Angeles:20250928T190000
DTSTAMP:20260419T141514
CREATED:20250829T170948Z
LAST-MODIFIED:20250928T190933Z
UID:10000184-1759078800-1759086000@beerandmagic.net
SUMMARY:Magic @ The Library Bar | Hollywood Roosevelt Hotel
DESCRIPTION:Step into The Library Bar for an evening of close-up magic with the renowned HUBB. With a reputation honed at legendary venues like The Magic Castle and The Chicago Magic Lounge\, HUBB will captivate you with his sophisticated illusions in our elegant\, cozy space. \nThis exclusive event is designed for a select audience\, creating a refined atmosphere where you can dress to impress\, sip a crafted cocktail\, and connect with fellow enthusiasts. With HUBB’s exceptional talent for transforming ordinary moments into unforgettable memories\, you’re in for an evening of understated yet mesmerizing magic. \n\nSeatings: 5:00 – 7:00 PM | 7:30 – 9:30 PM\nTicket Price: $50 (Includes one complimentary drink)
URL:https://beerandmagic.net/event/magic-the-library-bar-hollywood-roosevelt-hotel-92/
LOCATION:Hollywood Roosevelt Hotel\, 7000 Hollywood Blvd\, Los Angeles\, CA\, 90028\, United States
CATEGORIES:HUBB,PUBLIC EVENTS
ATTACH;FMTTYPE=image/jpeg:https://beerandmagic.net/wp-content/uploads/2024/12/https___cdn.evbuc_.com_images_847760529_248515732505_1_original-qskt1w.tmp_.jpg
END:VEVENT
BEGIN:VEVENT
DTSTART;TZID=America/Los_Angeles:20250928T193000
DTEND;TZID=America/Los_Angeles:20250928T213000
DTSTAMP:20260419T141514
CREATED:20250829T170948Z
LAST-MODIFIED:20250928T190934Z
UID:10000185-1759087800-1759095000@beerandmagic.net
SUMMARY:Magic @ The Library Bar | Hollywood Roosevelt Hotel
DESCRIPTION:Step into The Library Bar for an evening of close-up magic with the renowned HUBB. With a reputation honed at legendary venues like The Magic Castle and The Chicago Magic Lounge\, HUBB will captivate you with his sophisticated illusions in our elegant\, cozy space. \nThis exclusive event is designed for a select audience\, creating a refined atmosphere where you can dress to impress\, sip a crafted cocktail\, and connect with fellow enthusiasts. With HUBB’s exceptional talent for transforming ordinary moments into unforgettable memories\, you’re in for an evening of understated yet mesmerizing magic. \n\nSeatings: 5:00 – 7:00 PM | 7:30 – 9:30 PM\nTicket Price: $50 (Includes one complimentary drink)
URL:https://beerandmagic.net/event/magic-the-library-bar-hollywood-roosevelt-hotel-93/
LOCATION:Hollywood Roosevelt Hotel\, 7000 Hollywood Blvd\, Los Angeles\, CA\, 90028\, United States
CATEGORIES:HUBB,PUBLIC EVENTS
ATTACH;FMTTYPE=image/jpeg:https://beerandmagic.net/wp-content/uploads/2024/12/https___cdn.evbuc_.com_images_847760529_248515732505_1_original-qskt1w.tmp_.jpg
END:VEVENT
END:VCALENDAR