BEGIN:VCALENDAR
VERSION:2.0
PRODID:-// - ECPv6.15.20//NONSGML v1.0//EN
CALSCALE:GREGORIAN
METHOD:PUBLISH
X-ORIGINAL-URL:https://beerandmagic.net
X-WR-CALDESC:Events for 
REFRESH-INTERVAL;VALUE=DURATION:PT1H
X-Robots-Tag:noindex
X-PUBLISHED-TTL:PT1H
BEGIN:VTIMEZONE
TZID:America/Los_Angeles
BEGIN:DAYLIGHT
TZOFFSETFROM:-0800
TZOFFSETTO:-0700
TZNAME:PDT
DTSTART:20240310T100000
END:DAYLIGHT
BEGIN:STANDARD
TZOFFSETFROM:-0700
TZOFFSETTO:-0800
TZNAME:PST
DTSTART:20241103T090000
END:STANDARD
BEGIN:DAYLIGHT
TZOFFSETFROM:-0800
TZOFFSETTO:-0700
TZNAME:PDT
DTSTART:20250309T100000
END:DAYLIGHT
BEGIN:STANDARD
TZOFFSETFROM:-0700
TZOFFSETTO:-0800
TZNAME:PST
DTSTART:20251102T090000
END:STANDARD
BEGIN:DAYLIGHT
TZOFFSETFROM:-0800
TZOFFSETTO:-0700
TZNAME:PDT
DTSTART:20260308T100000
END:DAYLIGHT
BEGIN:STANDARD
TZOFFSETFROM:-0700
TZOFFSETTO:-0800
TZNAME:PST
DTSTART:20261101T090000
END:STANDARD
END:VTIMEZONE
BEGIN:VEVENT
DTSTART;TZID=America/Los_Angeles:20250608T170000
DTEND;TZID=America/Los_Angeles:20250608T190000
DTSTAMP:20260419T202755
CREATED:20250509T154015Z
LAST-MODIFIED:20250607T010935Z
UID:10000116-1749402000-1749409200@beerandmagic.net
SUMMARY:Magic @ The Library Bar | Hollywood Roosevelt Hotel
DESCRIPTION:Step into The Library Bar for an evening of close-up magic with the renowned HUBB. With a reputation honed at legendary venues like The Magic Castle and The Chicago Magic Lounge\, HUBB will captivate you with his sophisticated illusions in our elegant\, cozy space. \nThis exclusive event is designed for a select audience\, creating a refined atmosphere where you can dress to impress\, sip a crafted cocktail\, and connect with fellow enthusiasts. With HUBB’s exceptional talent for transforming ordinary moments into unforgettable memories\, you’re in for an evening of understated yet mesmerizing magic. \n\nSeatings: 5:00 – 7:00 PM | 7:30 – 9:30 PM\nTicket Price: $50 (Includes one complimentary drink)
URL:https://beerandmagic.net/event/magic-the-library-bar-hollywood-roosevelt-hotel-60/
LOCATION:Hollywood Roosevelt Hotel\, 7000 Hollywood Blvd\, Los Angeles\, CA\, 90028\, United States
CATEGORIES:HUBB,PUBLIC EVENTS
ATTACH;FMTTYPE=image/jpeg:https://beerandmagic.net/wp-content/uploads/2024/12/https___cdn.evbuc_.com_images_847760529_248515732505_1_original-qskt1w.tmp_.jpg
END:VEVENT
BEGIN:VEVENT
DTSTART;TZID=America/Los_Angeles:20250608T193000
DTEND;TZID=America/Los_Angeles:20250608T213000
DTSTAMP:20260419T202755
CREATED:20250509T154015Z
LAST-MODIFIED:20250607T010936Z
UID:10000117-1749411000-1749418200@beerandmagic.net
SUMMARY:Magic @ The Library Bar | Hollywood Roosevelt Hotel
DESCRIPTION:Step into The Library Bar for an evening of close-up magic with the renowned HUBB. With a reputation honed at legendary venues like The Magic Castle and The Chicago Magic Lounge\, HUBB will captivate you with his sophisticated illusions in our elegant\, cozy space. \nThis exclusive event is designed for a select audience\, creating a refined atmosphere where you can dress to impress\, sip a crafted cocktail\, and connect with fellow enthusiasts. With HUBB’s exceptional talent for transforming ordinary moments into unforgettable memories\, you’re in for an evening of understated yet mesmerizing magic. \n\nSeatings: 5:00 – 7:00 PM | 7:30 – 9:30 PM\nTicket Price: $50 (Includes one complimentary drink)
URL:https://beerandmagic.net/event/magic-the-library-bar-hollywood-roosevelt-hotel-61/
LOCATION:Hollywood Roosevelt Hotel\, 7000 Hollywood Blvd\, Los Angeles\, CA\, 90028\, United States
CATEGORIES:HUBB,PUBLIC EVENTS
ATTACH;FMTTYPE=image/jpeg:https://beerandmagic.net/wp-content/uploads/2024/12/https___cdn.evbuc_.com_images_847760529_248515732505_1_original-qskt1w.tmp_.jpg
END:VEVENT
END:VCALENDAR