BEGIN:VCALENDAR
VERSION:2.0
PRODID:-// - ECPv6.15.20//NONSGML v1.0//EN
CALSCALE:GREGORIAN
METHOD:PUBLISH
X-ORIGINAL-URL:https://beerandmagic.net
X-WR-CALDESC:Events for 
REFRESH-INTERVAL;VALUE=DURATION:PT1H
X-Robots-Tag:noindex
X-PUBLISHED-TTL:PT1H
BEGIN:VTIMEZONE
TZID:America/Los_Angeles
BEGIN:DAYLIGHT
TZOFFSETFROM:-0800
TZOFFSETTO:-0700
TZNAME:PDT
DTSTART:20230312T100000
END:DAYLIGHT
BEGIN:STANDARD
TZOFFSETFROM:-0700
TZOFFSETTO:-0800
TZNAME:PST
DTSTART:20231105T090000
END:STANDARD
BEGIN:DAYLIGHT
TZOFFSETFROM:-0800
TZOFFSETTO:-0700
TZNAME:PDT
DTSTART:20240310T100000
END:DAYLIGHT
BEGIN:STANDARD
TZOFFSETFROM:-0700
TZOFFSETTO:-0800
TZNAME:PST
DTSTART:20241103T090000
END:STANDARD
BEGIN:DAYLIGHT
TZOFFSETFROM:-0800
TZOFFSETTO:-0700
TZNAME:PDT
DTSTART:20250309T100000
END:DAYLIGHT
BEGIN:STANDARD
TZOFFSETFROM:-0700
TZOFFSETTO:-0800
TZNAME:PST
DTSTART:20251102T090000
END:STANDARD
END:VTIMEZONE
BEGIN:VEVENT
DTSTART;TZID=America/Los_Angeles:20241215T120000
DTEND;TZID=America/Los_Angeles:20241215T150000
DTSTAMP:20260419T170755
CREATED:20241207T005616Z
LAST-MODIFIED:20250220T010739Z
UID:10000005-1734264000-1734274800@beerandmagic.net
SUMMARY:Magic & Mimosas @ Stowaway Tiki
DESCRIPTION:  \n  \n  \n  \n  \nWe are welcoming the Enchanted Escape Show team back in style with Magic & Mimosas Sunday Brunch EVERY SUNDAY from 12PM to 3PM! Come see what’s on our brunch menu 🍳🥞🥂 and up our sleeves 🐇🎩🪄! *NO ADMISSION FEE* Reservations recommended at www.StowawayTiki.com \n📸 : @JeromyChan\n•\nOpen Tuesdays to Thursdays from 5PM to 11PM-ish\, midnight-ish on Fridays and Saturdays\, kitchen closes at 10PM-ish. Saturday and Sunday Brunch from 12PM to 3PMish!\n•\n🤙🏽🍍🔥🍹🗿🌋\n•\n#TikiLife #Cocktails #DomTiki #Tustin #Rum #StowawayTiki #TikiBar #OCTiki #TikiCocktails #TikiDrinks #TikiMug #TikiMugs #OrangeCounty #OC #Stowaway #TikiArt #EnchantedEscape #EnchantedEscapeShow #Magic #MagicAndMimosas #Brunch #OCBrunch
URL:https://beerandmagic.net/event/magic-mimosas-stowaway-tiki-2/
LOCATION:Stowaway Tiki\, 14401 Newport Ave\, Tustin\, CA\, 92780\, United States
CATEGORIES:ENCHANTED ESCAPE,LAURO,PUBLIC EVENTS
END:VEVENT
BEGIN:VEVENT
DTSTART;TZID=America/Los_Angeles:20241208T120000
DTEND;TZID=America/Los_Angeles:20241208T150000
DTSTAMP:20260419T170755
CREATED:20241207T005615Z
LAST-MODIFIED:20250220T010739Z
UID:10000002-1733659200-1733670000@beerandmagic.net
SUMMARY:Magic & Mimosas @ Stowaway Tiki
DESCRIPTION:  \n  \n  \n  \n  \nWe are welcoming the Enchanted Escape Show team back in style with Magic & Mimosas Sunday Brunch EVERY SUNDAY from 12PM to 3PM! Come see what’s on our brunch menu 🍳🥞🥂 and up our sleeves 🐇🎩🪄! *NO ADMISSION FEE* Reservations recommended at www.StowawayTiki.com \n📸 : @JeromyChan\n•\nOpen Tuesdays to Thursdays from 5PM to 11PM-ish\, midnight-ish on Fridays and Saturdays\, kitchen closes at 10PM-ish. Saturday and Sunday Brunch from 12PM to 3PMish!\n•\n🤙🏽🍍🔥🍹🗿🌋\n•\n#TikiLife #Cocktails #DomTiki #Tustin #Rum #StowawayTiki #TikiBar #OCTiki #TikiCocktails #TikiDrinks #TikiMug #TikiMugs #OrangeCounty #OC #Stowaway #TikiArt #EnchantedEscape #EnchantedEscapeShow #Magic #MagicAndMimosas #Brunch #OCBrunch
URL:https://beerandmagic.net/event/magic-mimosas-stowaway-tiki/
LOCATION:Stowaway Tiki\, 14401 Newport Ave\, Tustin\, CA\, 92780\, United States
CATEGORIES:ENCHANTED ESCAPE,LAURO,PUBLIC EVENTS
END:VEVENT
END:VCALENDAR